BEGIN:VCALENDAR
VERSION:2.0
PRODID:-//Murcia a Escena - ECPv6.15.13//NONSGML v1.0//EN
CALSCALE:GREGORIAN
METHOD:PUBLISH
X-ORIGINAL-URL:https://murciaaescena.com
X-WR-CALDESC:Eventos para Murcia a Escena
REFRESH-INTERVAL;VALUE=DURATION:PT1H
X-Robots-Tag:noindex
X-PUBLISHED-TTL:PT1H
BEGIN:VTIMEZONE
TZID:UTC
BEGIN:STANDARD
TZOFFSETFROM:+0000
TZOFFSETTO:+0000
TZNAME:UTC
DTSTART:20250101T000000
END:STANDARD
END:VTIMEZONE
BEGIN:VEVENT
DTSTART;TZID=UTC:20260218T110000
DTEND;TZID=UTC:20260218T120000
DTSTAMP:20260421T122555
CREATED:20260130T141605Z
LAST-MODIFIED:20260223T104147Z
UID:10000015-1771412400-1771416000@murciaaescena.com
SUMMARY:Historia de una muñeca abandonada
DESCRIPTION:Una muñeca rota es abandonada por una niña que lo tiene todo. Sin embargo\, es recogida por otra niña que la cuida con esmero hasta dejarla como nueva. Cuando la primera niña ve la muñeca restaurada\, desea recuperarla\, argumentando que le pertenece. Pero entonces surge la pregunta: ¿A quién pertenece realmente? ¿A quien la compró o quien la cuidó? \nA través de esta historia\, escrita en divertidos versos\, Alfonso Sastre nos invita a reflexionar sobre la importancia de valorar y cuidar lo que tenemos\, y el poder de transformar y mejorar aquello que parecía perdido.
URL:https://murciaaescena.com/circuito-escolar-recrea-evento/historia-de-una-muneca-abandonada-2/
LOCATION:Centro Cultural y Auditorio (Ceutí)\, Ceutí\, Murcia\, Spain
CATEGORIES:Público: Primaria
ATTACH;FMTTYPE=image/png:https://murciaaescena.com/wp-content/uploads/2026/01/muneca-800x500px.png
END:VEVENT
BEGIN:VEVENT
DTSTART;TZID=UTC:20260219T110000
DTEND;TZID=UTC:20260219T120000
DTSTAMP:20260421T122555
CREATED:20260105T114835Z
LAST-MODIFIED:20260223T104225Z
UID:10000006-1771498800-1771502400@murciaaescena.com
SUMMARY:Bobo
DESCRIPTION:BoBo es un espectáculo de títeres que nos habla de lo que pasa cuando un niño o niña tiene que compartir el cariño y la atención de sus padres con un nuevo ser en la familia. \nNuestro pequeño Bobo se siente como un “príncipe destronado” y piensa que sus padres ya no lo quieren igual. Con el tiempo y el cariño superará esta situación y se dará cuenta de que ha ganado un amigo para toda la vida.
URL:https://murciaaescena.com/circuito-escolar-recrea-evento/bobo/
LOCATION:Teatro Cervantes (Abarán)\, Calle Dr. Molina\, 79\, Abarán\, Murcia\, 30550\, Spain
CATEGORIES:Público: Infantil
ATTACH;FMTTYPE=image/png:https://murciaaescena.com/wp-content/uploads/2026/01/bobo-800x500px.png
END:VEVENT
END:VCALENDAR